BEGIN:VCALENDAR
VERSION:2.0
PRODID:-//Universitatea Tiffin - ECPv6.15.18//NONSGML v1.0//EN
CALSCALE:GREGORIAN
METHOD:PUBLISH
X-WR-CALNAME:Universitatea Tiffin
X-ORIGINAL-URL:https://www.tiffin.ro/ro/
X-WR-CALDESC:Evenimente pentru Universitatea Tiffin
REFRESH-INTERVAL;VALUE=DURATION:PT1H
X-Robots-Tag:noindex
X-PUBLISHED-TTL:PT1H
BEGIN:VTIMEZONE
TZID:UTC
BEGIN:STANDARD
TZOFFSETFROM:+0000
TZOFFSETTO:+0000
TZNAME:UTC
DTSTART:20180101T000000
END:STANDARD
END:VTIMEZONE
BEGIN:VEVENT
DTSTART;TZID=UTC:20200107T070000
DTEND;TZID=UTC:20200107T233000
DTSTAMP:20260422T105132
CREATED:20180816T120220Z
LAST-MODIFIED:20180816T120220Z
UID:16475-1578380400-1578439800@www.tiffin.ro
SUMMARY:Eveniment de reuniune: Kingster's Alumni Golf Tour
DESCRIPTION:Departe\, în spatele munților cuvântului\, departe de țările Vokalia și Consonantia\, trăiesc textele oarbe.\nSeparați\, ei trăiesc în Bookmarksgrove\, chiar pe coasta Semanticii\, un mare ocean lingvistic.\nUn mic râu numit Duden curge pe lângă locul lor și îl aprovizionează cu regelialia necesară.\nEste o țară paradisiacă\, în care părți prăjite ale propozițiilor îți zboară în gură.    Chiar și atotputernicul Pointing nu are niciun control asupra textelor oarbe\, este o viață aproape neortografică: Într-o zi\, totuși\, un mic rând de text orb după nume
URL:https://www.tiffin.ro/ro/event/eveniment-de-reuniune-kingsters-alumni-golf-tour/
LOCATION:Kingster Grand Hall\, 1810 Campus Way NE Bothell\, Washington\, United States
ORGANIZER;CN="Clubul social Kingster's":MAILTO:clubs@kingsteruni.edu
END:VEVENT
BEGIN:VEVENT
DTSTART;TZID=UTC:20200101T100000
DTEND;TZID=UTC:20200101T163000
DTSTAMP:20260422T105132
CREATED:20180816T115715Z
LAST-MODIFIED:20180816T115715Z
UID:16477-1577872800-1577896200@www.tiffin.ro
SUMMARY:Excursia cu balonul cu aer cald al absolvenților Kingster în Turcia
DESCRIPTION:Departe\, în spatele munților cuvântului\, departe de țările Vokalia și Consonantia\, trăiesc textele oarbe.\nSeparați\, ei trăiesc în Bookmarksgrove\, chiar pe coasta Semanticii\, un mare ocean lingvistic.\nUn mic râu numit Duden curge pe lângă locul lor și îl aprovizionează cu regelialia necesară.\nEste o țară paradisiacă\, în care părți prăjite ale propozițiilor îți zboară în gură.    Chiar și atotputernicul Pointing nu are niciun control asupra textelor oarbe\, este o viață aproape neortografică: Într-o zi\, totuși\, un mic rând de text orb după nume
URL:https://www.tiffin.ro/ro/event/excursia-cu-balonul-cu-aer-cald-al-absolventilor-kingster-in-turcia/
LOCATION:Kingster Grand Hall\, 1810 Campus Way NE Bothell\, Washington\, United States
ATTACH;FMTTYPE=image/jpeg:https://www.tiffin.ro/wp-content/uploads/2018/08/ellehem-693-unsplash.jpg
ORGANIZER;CN="Clubul social Kingster's":MAILTO:clubs@kingsteruni.edu
END:VEVENT
BEGIN:VEVENT
DTSTART;TZID=UTC:20191217T130000
DTEND;TZID=UTC:20191217T170000
DTSTAMP:20260422T105132
CREATED:20180816T115533Z
LAST-MODIFIED:20180816T115533Z
UID:16479-1576587600-1576602000@www.tiffin.ro
SUMMARY:Conferința Fintech și Investiții Cheie
DESCRIPTION:Departe\, în spatele munților cuvântului\, departe de țările Vokalia și Consonantia\, trăiesc textele oarbe.\nSeparați\, ei trăiesc în Bookmarksgrove\, chiar pe coasta Semanticii\, un mare ocean lingvistic.\nUn mic râu numit Duden curge pe lângă locul lor și îl aprovizionează cu regelialia necesară.\nEste o țară paradisiacă\, în care părți prăjite ale propozițiilor îți zboară în gură.    Chiar și atotputernicul Pointing nu are niciun control asupra textelor oarbe\, este o viață aproape neortografică: Într-o zi\, totuși\, un mic rând de text orb după nume
URL:https://www.tiffin.ro/ro/event/conferinta-fintech-si-investitii-cheie/
LOCATION:Kingster Grand Hall\, 1810 Campus Way NE Bothell\, Washington\, United States
ATTACH;FMTTYPE=image/jpeg:https://www.tiffin.ro/wp-content/uploads/2018/08/tyler-callahan-662157-unsplash.jpg
ORGANIZER;CN="Clubul social Kingster's":MAILTO:clubs@kingsteruni.edu
END:VEVENT
BEGIN:VEVENT
DTSTART;TZID=UTC:20191104T130000
DTEND;TZID=UTC:20191104T170000
DTSTAMP:20260422T105132
CREATED:20180816T115247Z
LAST-MODIFIED:20180816T115247Z
UID:16481-1572872400-1572886800@www.tiffin.ro
SUMMARY:Webinar cu informații despre managementul sportului
DESCRIPTION:Departe\, în spatele munților cuvântului\, departe de țările Vokalia și Consonantia\, trăiesc textele oarbe.\nSeparați\, ei trăiesc în Bookmarksgrove\, chiar pe coasta Semanticii\, un mare ocean lingvistic.\nUn mic râu numit Duden curge pe lângă locul lor și îl aprovizionează cu regelialia necesară.\nEste o țară paradisiacă\, în care părți prăjite ale propozițiilor îți zboară în gură.    Chiar și atotputernicul Pointing nu are niciun control asupra textelor oarbe\, este o viață aproape neortografică: Într-o zi\, totuși\, un mic rând de text orb după nume
URL:https://www.tiffin.ro/ro/event/webinar-cu-informatii-despre-managementul-sportului/
LOCATION:Kingster Grand Hall\, 1810 Campus Way NE Bothell\, Washington\, United States
ATTACH;FMTTYPE=image/jpeg:https://www.tiffin.ro/wp-content/uploads/2018/08/page-title-athletics.jpg
ORGANIZER;CN="Clubul social Kingster's":MAILTO:clubs@kingsteruni.edu
END:VEVENT
BEGIN:VEVENT
DTSTART;TZID=UTC:20190911T080000
DTEND;TZID=UTC:20190911T123000
DTSTAMP:20260422T105132
CREATED:20180816T115159Z
LAST-MODIFIED:20180816T115159Z
UID:16483-1568188800-1568205000@www.tiffin.ro
SUMMARY:Planificarea și facilitarea întâlnirilor eficiente
DESCRIPTION:Departe\, în spatele munților cuvântului\, departe de țările Vokalia și Consonantia\, trăiesc textele oarbe.\nSeparați\, ei trăiesc în Bookmarksgrove\, chiar pe coasta Semanticii\, un mare ocean lingvistic.\nUn mic râu numit Duden curge pe lângă locul lor și îl aprovizionează cu regelialia necesară.\nEste o țară paradisiacă\, în care părți prăjite ale propozițiilor îți zboară în gură.    Chiar și atotputernicul Pointing nu are niciun control asupra textelor oarbe\, este o viață aproape neortografică: Într-o zi\, totuși\, un mic rând de text orb după nume
URL:https://www.tiffin.ro/ro/event/planificarea-si-facilitarea-intalnirilor-eficiente/
LOCATION:Kingster Grand Hall\, 1810 Campus Way NE Bothell\, Washington\, United States
ATTACH;FMTTYPE=image/jpeg:https://www.tiffin.ro/wp-content/uploads/2018/08/shutterstock_59887279.jpg
ORGANIZER;CN="Clubul social Kingster's":MAILTO:clubs@kingsteruni.edu
END:VEVENT
BEGIN:VEVENT
DTSTART;TZID=UTC:20190902T080000
DTEND;TZID=UTC:20190902T170000
DTSTAMP:20260422T105132
CREATED:20180816T114427Z
LAST-MODIFIED:20180816T114427Z
UID:16476-1567411200-1567443600@www.tiffin.ro
SUMMARY:Festivalul de toamnă al studiilor Asia Pacific
DESCRIPTION:Departe\, în spatele munților cuvântului\, departe de țările Vokalia și Consonantia\, trăiesc textele oarbe.\nSeparați\, ei trăiesc în Bookmarksgrove\, chiar pe coasta Semanticii\, un mare ocean lingvistic.\nUn mic râu numit Duden curge pe lângă locul lor și îl aprovizionează cu regelialia necesară.\nEste o țară paradisiacă\, în care părți prăjite ale propozițiilor îți zboară în gură.    Chiar și atotputernicul Pointing nu are niciun control asupra textelor oarbe\, este o viață aproape neortografică: Într-o zi\, totuși\, un mic rând de text orb după nume
URL:https://www.tiffin.ro/ro/event/festivalul-de-toamna-al-studiilor-asia-pacific/
LOCATION:Kingster Grand Hall\, 1810 Campus Way NE Bothell\, Washington\, United States
ATTACH;FMTTYPE=image/jpeg:https://www.tiffin.ro/wp-content/uploads/2016/06/shutterstock_218235004.jpg
ORGANIZER;CN="Clubul social Kingster's":MAILTO:clubs@kingsteruni.edu
END:VEVENT
END:VCALENDAR